BEGIN:VCALENDAR
VERSION:2.0
PRODID:-//American Legion MO Post 163 - ECPv6.15.20//NONSGML v1.0//EN
CALSCALE:GREGORIAN
METHOD:PUBLISH
X-ORIGINAL-URL:https://almopost163.org
X-WR-CALDESC:Events for American Legion MO Post 163
REFRESH-INTERVAL;VALUE=DURATION:PT1H
X-Robots-Tag:noindex
X-PUBLISHED-TTL:PT1H
BEGIN:VTIMEZONE
TZID:America/Chicago
BEGIN:DAYLIGHT
TZOFFSETFROM:-0600
TZOFFSETTO:-0500
TZNAME:CDT
DTSTART:20220313T080000
END:DAYLIGHT
BEGIN:STANDARD
TZOFFSETFROM:-0500
TZOFFSETTO:-0600
TZNAME:CST
DTSTART:20221106T070000
END:STANDARD
BEGIN:DAYLIGHT
TZOFFSETFROM:-0600
TZOFFSETTO:-0500
TZNAME:CDT
DTSTART:20230312T080000
END:DAYLIGHT
BEGIN:STANDARD
TZOFFSETFROM:-0500
TZOFFSETTO:-0600
TZNAME:CST
DTSTART:20231105T070000
END:STANDARD
BEGIN:DAYLIGHT
TZOFFSETFROM:-0600
TZOFFSETTO:-0500
TZNAME:CDT
DTSTART:20240310T080000
END:DAYLIGHT
BEGIN:STANDARD
TZOFFSETFROM:-0500
TZOFFSETTO:-0600
TZNAME:CST
DTSTART:20241103T070000
END:STANDARD
END:VTIMEZONE
BEGIN:VEVENT
DTSTART;TZID=America/Chicago:20231212T180000
DTEND;TZID=America/Chicago:20231212T193000
DTSTAMP:20260424T221731
CREATED:20231114T003646Z
LAST-MODIFIED:20231114T003824Z
UID:193-1702404000-1702409400@almopost163.org
SUMMARY:AL Christmas Dinner
DESCRIPTION:Christmas Dinner at Oriental House. Stay Tuned for more details. You will be responsible for your own dinner. If you cannot afford to order dinner please contact the Commander and we will make sure that you will be able to eat with us.
URL:https://almopost163.org/event/al-christmas-dinner/
LOCATION:Oriental House\, 1105 Daugherty Rd.\, Neosho\, MO\, 64850\, United States
END:VEVENT
END:VCALENDAR