BEGIN:VCALENDAR
VERSION:2.0
PRODID:-//American Legion MO Post 163 - ECPv6.15.20//NONSGML v1.0//EN
CALSCALE:GREGORIAN
METHOD:PUBLISH
X-WR-CALNAME:American Legion MO Post 163
X-ORIGINAL-URL:https://almopost163.org
X-WR-CALDESC:Events for American Legion MO Post 163
REFRESH-INTERVAL;VALUE=DURATION:PT1H
X-Robots-Tag:noindex
X-PUBLISHED-TTL:PT1H
BEGIN:VTIMEZONE
TZID:America/Chicago
BEGIN:DAYLIGHT
TZOFFSETFROM:-0600
TZOFFSETTO:-0500
TZNAME:CDT
DTSTART:20240310T080000
END:DAYLIGHT
BEGIN:STANDARD
TZOFFSETFROM:-0500
TZOFFSETTO:-0600
TZNAME:CST
DTSTART:20241103T070000
END:STANDARD
BEGIN:DAYLIGHT
TZOFFSETFROM:-0600
TZOFFSETTO:-0500
TZNAME:CDT
DTSTART:20250309T080000
END:DAYLIGHT
BEGIN:STANDARD
TZOFFSETFROM:-0500
TZOFFSETTO:-0600
TZNAME:CST
DTSTART:20251102T070000
END:STANDARD
BEGIN:DAYLIGHT
TZOFFSETFROM:-0600
TZOFFSETTO:-0500
TZNAME:CDT
DTSTART:20260308T080000
END:DAYLIGHT
BEGIN:STANDARD
TZOFFSETFROM:-0500
TZOFFSETTO:-0600
TZNAME:CST
DTSTART:20261101T070000
END:STANDARD
END:VTIMEZONE
BEGIN:VEVENT
DTSTART;TZID=America/Chicago:20250311T190000
DTEND;TZID=America/Chicago:20250311T210000
DTSTAMP:20260425T113609
CREATED:20241014T194032Z
LAST-MODIFIED:20241014T194951Z
UID:256-1741719600-1741726800@almopost163.org
SUMMARY:Post Meeting
DESCRIPTION:Monthly Organization Meeting. All are welcome.
URL:https://almopost163.org/event/post-meeting-5/
LOCATION:First Presbyterian Church\, 215 N High St.\, Neosho\, MO\, 64850\, United States
ORGANIZER;CN="Post Commander":MAILTO:commander@almopost163.org
END:VEVENT
END:VCALENDAR